BEGIN:VCALENDAR
VERSION:2.0
PRODID:-//hacksw/handcal//NONSGML v1.0//EN
CALSCALE:GREGORIAN
BEGIN:VEVENT
DTEND:20260430T062900Z
UID:8554dc08d9a289a198647e4225ebf4c8
DTSTAMP:1776850808
LOCATION:https://www.americanexpress.lk/en/offers/dining-offers/royal-thai
DESCRIPTION:Cinnamon Lakeside - Royal Thai
URL;VALUE=URI: https://www.americanexpress.lk/en/offers/dining-offers/royal-thai/237
SUMMARY:Cinnamon Lakeside - Royal Thai
DTSTART:20240721T063000Z
END:VEVENT
END:VCALENDAR