BEGIN:VCALENDAR
VERSION:2.0
PRODID:-//hacksw/handcal//NONSGML v1.0//EN
CALSCALE:GREGORIAN
BEGIN:VEVENT
DTEND:20260531T062900Z
UID:a3ec560fd2231211829665ab67df0d54
DTSTAMP:1776850778
LOCATION:https://www.americanexpress.lk/en/offers/dining-offers/waters-edge-kobe-at-the-edge
DESCRIPTION:Waters Edge - Kobe at the Edge
URL;VALUE=URI: https://www.americanexpress.lk/en/offers/dining-offers/waters-edge-kobe-at-the-edge/243
SUMMARY:Waters Edge - Kobe at the Edge
DTSTART:20231231T063000Z
END:VEVENT
END:VCALENDAR