BEGIN:VCALENDAR
VERSION:2.0
PRODID:-//hacksw/handcal//NONSGML v1.0//EN
CALSCALE:GREGORIAN
BEGIN:VEVENT
DTEND:20260630T062959Z
UID:ce021e92718d1a87da752d17c888a144
DTSTAMP:1776850808
LOCATION:https://www.americanexpress.lk/en/offers/dining-offers/chinese-dragon-cafe
DESCRIPTION:Chinese Dragon Cafe
URL;VALUE=URI: https://www.americanexpress.lk/en/offers/dining-offers/chinese-dragon-cafe/246
SUMMARY:Chinese Dragon Cafe
DTSTART:20241117T063000Z
END:VEVENT
END:VCALENDAR