BEGIN:VCALENDAR
VERSION:2.0
PRODID:-//hacksw/handcal//NONSGML v1.0//EN
CALSCALE:GREGORIAN
BEGIN:VEVENT
DTEND:20260430T062931Z
UID:daa6b970cef3bad223e1e50400cf4803
DTSTAMP:1776850870
LOCATION:https://www.americanexpress.lk/en/offers/dining-offers/popeyes-lousiana-chicken
DESCRIPTION:Popeyes 
URL;VALUE=URI: https://www.americanexpress.lk/en/offers/dining-offers/popeyes-lousiana-chicken/2751
SUMMARY:Popeyes 
DTSTART:20240922T063000Z
END:VEVENT
END:VCALENDAR