BEGIN:VCALENDAR
VERSION:2.0
PRODID:-//hacksw/handcal//NONSGML v1.0//EN
CALSCALE:GREGORIAN
BEGIN:VEVENT
DTEND:20260531T062900Z
UID:0a0f6b91646caa39245b78943af052cc
DTSTAMP:1776850854
LOCATION:https://www.americanexpress.lk/en/offers/dining-offers/waters-edge-boardwalk
DESCRIPTION:Waters Edge - Boardwalk
URL;VALUE=URI: https://www.americanexpress.lk/en/offers/dining-offers/waters-edge-boardwalk/3057
SUMMARY:Waters Edge - Boardwalk
DTSTART:20260422T120000Z
END:VEVENT
END:VCALENDAR