BEGIN:VCALENDAR
VERSION:2.0
PRODID:-//hacksw/handcal//NONSGML v1.0//EN
CALSCALE:GREGORIAN
BEGIN:VEVENT
DTEND:20260630T062959Z
UID:3648796976fb0eb60f8ed774aace1659
DTSTAMP:1776850871
LOCATION:https://www.americanexpress.lk/en/offers/dining-offers/cinnamon-grand-colombo-london-grill
DESCRIPTION:Cinnamon Grand Colombo - London Grill
URL;VALUE=URI: https://www.americanexpress.lk/en/offers/dining-offers/cinnamon-grand-colombo-london-grill/3187
SUMMARY:Cinnamon Grand Colombo - London Grill
DTSTART:20240528T063000Z
END:VEVENT
END:VCALENDAR