BEGIN:VCALENDAR
VERSION:2.0
PRODID:-//hacksw/handcal//NONSGML v1.0//EN
CALSCALE:GREGORIAN
BEGIN:VEVENT
DTEND:20260630T062916Z
UID:d11a09598efcab17029c280257c81745
DTSTAMP:1776850813
LOCATION:https://www.americanexpress.lk/en/offers/dining-offers/american-express-shangri-la-hotel-colombo-credit-card-offers
DESCRIPTION:Central - Shangri-La Colombo
URL;VALUE=URI: https://www.americanexpress.lk/en/offers/dining-offers/american-express-shangri-la-hotel-colombo-credit-card-offers/3211
SUMMARY:Central - Shangri-La Colombo
DTSTART:20241109T063000Z
END:VEVENT
END:VCALENDAR