BEGIN:VCALENDAR
VERSION:2.0
PRODID:-//hacksw/handcal//NONSGML v1.0//EN
CALSCALE:GREGORIAN
BEGIN:VEVENT
DTEND:20260531T062931Z
UID:8cf3b5c5dacaa85e062800fbec29f574
DTSTAMP:1776850854
LOCATION:https://www.americanexpress.lk/en/offers/dining-offers/water-s-edge-diyatha
DESCRIPTION:Water’s Edge – Diyatha
URL;VALUE=URI: https://www.americanexpress.lk/en/offers/dining-offers/water-s-edge-diyatha/3324
SUMMARY:Water’s Edge – Diyatha
DTSTART:20260422T120000Z
END:VEVENT
END:VCALENDAR