BEGIN:VCALENDAR
VERSION:2.0
PRODID:-//hacksw/handcal//NONSGML v1.0//EN
CALSCALE:GREGORIAN
BEGIN:VEVENT
DTEND:20260730T062953Z
UID:9060e6e1f299b142a2e32cc463c5b4d0
DTSTAMP:1776945839
LOCATION:https://www.americanexpress.lk/en/offers/special-offers/f1-get-closer-to-the-grid-amex
DESCRIPTION:GET CLOSER TO THE GRID
URL;VALUE=URI: https://www.americanexpress.lk/en/offers/special-offers/f1-get-closer-to-the-grid-amex/3820
SUMMARY:GET CLOSER TO THE GRID
DTSTART:20260423T120000Z
END:VEVENT
END:VCALENDAR