BEGIN:VCALENDAR
VERSION:2.0
PRODID:-//hacksw/handcal//NONSGML v1.0//EN
CALSCALE:GREGORIAN
BEGIN:VEVENT
DTEND:20260630T062931Z
UID:9cff69fa6ad71d96593ba44e257ea9a3
DTSTAMP:1776759693
LOCATION:https://www.americanexpress.lk/en/offers/healthcare/kings-hospital
DESCRIPTION:Kings Hospital
URL;VALUE=URI: https://www.americanexpress.lk/en/offers/healthcare/kings-hospital/4697
SUMMARY:Kings Hospital
DTSTART:20260421T120000Z
END:VEVENT
END:VCALENDAR