BEGIN:VCALENDAR
VERSION:2.0
PRODID:-//hacksw/handcal//NONSGML v1.0//EN
CALSCALE:GREGORIAN
BEGIN:VEVENT
DTEND:20260531T062900Z
UID:8398766bf54df675bc18e8415896ee7f
DTSTAMP:1776850561
LOCATION:https://www.americanexpress.lk/en/offers/dining-offers/waters-edge-members-lounge
DESCRIPTION:Waters Edge - Members Lounge
URL;VALUE=URI: https://www.americanexpress.lk/en/offers/dining-offers/waters-edge-members-lounge/4956
SUMMARY:Waters Edge - Members Lounge
DTSTART:20231231T063000Z
END:VEVENT
END:VCALENDAR