BEGIN:VCALENDAR
VERSION:2.0
PRODID:-//hacksw/handcal//NONSGML v1.0//EN
CALSCALE:GREGORIAN
BEGIN:VEVENT
DTEND:20260531T062900Z
UID:028816a43622edd9548cf45b358a5108
DTSTAMP:1776850561
LOCATION:https://www.americanexpress.lk/en/offers/dining-offers/waters-edge-batl-and-bakery
DESCRIPTION:Waters Edge - BATL & Bakery
URL;VALUE=URI: https://www.americanexpress.lk/en/offers/dining-offers/waters-edge-batl-and-bakery/4958
SUMMARY:Waters Edge - BATL & Bakery
DTSTART:20231231T063000Z
END:VEVENT
END:VCALENDAR