BEGIN:VCALENDAR
VERSION:2.0
PRODID:-//hacksw/handcal//NONSGML v1.0//EN
CALSCALE:GREGORIAN
BEGIN:VEVENT
DTEND:20260531T055949Z
UID:8d75673a88b361675844b64e3ae981c9
DTSTAMP:1776850814
LOCATION:https://www.americanexpress.lk/en/offers/dining-offers/ginza-hosen
DESCRIPTION:Ginza Hohsen
URL;VALUE=URI: https://www.americanexpress.lk/en/offers/dining-offers/ginza-hosen/603
SUMMARY:Ginza Hohsen
DTSTART:20260422T120000Z
END:VEVENT
END:VCALENDAR